BEGIN:VCALENDAR
VERSION:2.0
PRODID:-//eventon.com NONSGML v1.0//EN
BEGIN:VEVENT
UID:69ec2ee8a9504
DTSTAMP:20260424T230304
DTSTART:20271013T170000Z
DTEND:20271013T180000Z
LOCATION:Community Services Building 106 East Morgan Street
SUMMARY:CARE Coalition Meeting
DESCRIPTION: CARE Coalition Meeting
END:VEVENT
END:VCALENDAR