BEGIN:VCALENDAR
VERSION:2.0
PRODID:-//eventon.com NONSGML v1.0//EN
BEGIN:VEVENT
UID:69eba3258bce4
DTSTAMP:20260424T130645
DTSTART:20270414T170000Z
DTEND:20270414T180000Z
LOCATION:Community Services Building 106 East Morgan Street
SUMMARY:CARE Coalition Meeting
DESCRIPTION: CARE Coalition Meeting
END:VEVENT
END:VCALENDAR