BEGIN:VCALENDAR
VERSION:2.0
PRODID:-//eventon.com NONSGML v1.0//EN
BEGIN:VEVENT
UID:69eb8f4752c0d
DTSTAMP:20260424T114159
DTSTART:20270310T170000Z
DTEND:20270310T180000Z
LOCATION:Community Services Building 106 East Morgan Street
SUMMARY:CARE Coalition Meeting
DESCRIPTION: CARE Coalition Meeting
END:VEVENT
END:VCALENDAR