BEGIN:VCALENDAR
VERSION:2.0
PRODID:-//eventon.com NONSGML v1.0//EN
BEGIN:VEVENT
UID:69eb51413feb3
DTSTAMP:20260424T071721
DTSTART:20270113T170000Z
DTEND:20270113T180000Z
LOCATION:Community Services Building 106 East Morgan Street
SUMMARY:CARE Coalition Meeting
DESCRIPTION: CARE Coalition Meeting
END:VEVENT
END:VCALENDAR