BEGIN:VCALENDAR
VERSION:2.0
PRODID:-//eventon.com NONSGML v1.0//EN
BEGIN:VEVENT
UID:69e89e4a882c6
DTSTAMP:20260422T060914
DTSTART:20261209T170000Z
DTEND:20261209T180000Z
LOCATION:Community Services Building 106 East Morgan Street
SUMMARY:CARE Coalition Meeting
DESCRIPTION: CARE Coalition Meeting
END:VEVENT
END:VCALENDAR